BEGIN:VCALENDAR
VERSION:2.0
PRODID:-//wp-events-plugin.com//7.0.5//EN
TZID:Europe/Paris
X-WR-TIMEZONE:Europe/Paris
BEGIN:VEVENT
UID:545@espritduvent.fr
DTSTART;TZID=Europe/Paris;VALUE=DATE:20240210
DTEND;TZID=Europe/Paris;VALUE=DATE:20240211
DTSTAMP:20240106T150202Z
URL:https://www.espritduvent.fr/calendrier/atelier-se-propulser-dans-le-pr
 intemps/
SUMMARY:Atelier - Se propulser dans le printemps
DESCRIPTION:Atelier Qigong - Se propulser dans le printemps
ATTACH;FMTTYPE=image/jpeg:https://www.espritduvent.fr/wp-content/uploads/2
 022/11/esprit_du_vent_qigong_-yourte_pilat_7.jpg
CATEGORIES:Ateliers Qi Gong
END:VEVENT
BEGIN:VTIMEZONE
TZID:Europe/Paris
X-LIC-LOCATION:Europe/Paris
BEGIN:STANDARD
DTSTART:20231029T020000
TZOFFSETFROM:+0200
TZOFFSETTO:+0100
TZNAME:CET
END:STANDARD
END:VTIMEZONE
END:VCALENDAR